BEGIN:VCALENDAR
VERSION:2.0
PRODID:-//Torbay Amateur Radio Society - ECPv6.15.20//NONSGML v1.0//EN
CALSCALE:GREGORIAN
METHOD:PUBLISH
X-WR-CALNAME:Torbay Amateur Radio Society
X-ORIGINAL-URL:https://torbayars.org
X-WR-CALDESC:Events for Torbay Amateur Radio Society
REFRESH-INTERVAL;VALUE=DURATION:PT1H
X-Robots-Tag:noindex
X-PUBLISHED-TTL:PT1H
BEGIN:VTIMEZONE
TZID:UTC
BEGIN:STANDARD
TZOFFSETFROM:+0000
TZOFFSETTO:+0000
TZNAME:UTC
DTSTART:20250101T000000
END:STANDARD
END:VTIMEZONE
BEGIN:VEVENT
DTSTART;TZID=UTC:20260905T130000
DTEND;TZID=UTC:20260906T130000
DTSTAMP:20260423T085352
CREATED:20260131T161709Z
LAST-MODIFIED:20260131T161709Z
UID:5025-1788613200-1788699600@torbayars.org
SUMMARY:RSGB SSB FIELD DAY
DESCRIPTION:Lets see if any members wish to make a field day team \, let us know \ncontest manager : eddie M8EVM
URL:https://torbayars.org/event/rsgb-ssb-field-day
LOCATION:Devon
END:VEVENT
BEGIN:VEVENT
DTSTART;TZID=UTC:20260907T190000
DTEND;TZID=UTC:20260907T203000
DTSTAMP:20260423T085352
CREATED:20260131T161837Z
LAST-MODIFIED:20260131T161837Z
UID:5027-1788807600-1788813000@torbayars.org
SUMMARY:RSGB 80M AUTUMN SERIES SSB
DESCRIPTION:All members welcome to enter \ninput   TORBAY  ARS
URL:https://torbayars.org/event/rsgb-80m-autumn-series-ssb
LOCATION:Devon
END:VEVENT
BEGIN:VEVENT
DTSTART;TZID=UTC:20260913T120000
DTEND;TZID=UTC:20260913T150000
DTSTAMP:20260423T085352
CREATED:20260223T201058Z
LAST-MODIFIED:20260223T201222Z
UID:5096-1789300800-1789311600@torbayars.org
SUMMARY:145 Alive
DESCRIPTION:https://www.facebook.com/groups/906901577214402
URL:https://torbayars.org/event/145-alive-3
LOCATION:Devon
END:VEVENT
BEGIN:VEVENT
DTSTART;TZID=UTC:20260916T190000
DTEND;TZID=UTC:20260916T203000
DTSTAMP:20260423T085352
CREATED:20260131T161939Z
LAST-MODIFIED:20260131T161939Z
UID:5029-1789585200-1789590600@torbayars.org
SUMMARY:RSGB 80M AUTUMN SERIES CW
DESCRIPTION:All members welcome to enter \ninput   TORBAY  ARS
URL:https://torbayars.org/event/rsgb-80m-autumn-series-cw
LOCATION:Devon
END:VEVENT
BEGIN:VEVENT
DTSTART;TZID=UTC:20260924T190000
DTEND;TZID=UTC:20260924T203000
DTSTAMP:20260423T085352
CREATED:20260131T162034Z
LAST-MODIFIED:20260131T162034Z
UID:5031-1790276400-1790281800@torbayars.org
SUMMARY:RSGB 80M AUTUMN SERIES DATA
DESCRIPTION:All members welcome to enter \ninput   TORBAY  ARS
URL:https://torbayars.org/event/rsgb-80m-autumn-series-data
LOCATION:Devon
END:VEVENT
BEGIN:VEVENT
DTSTART;TZID=UTC:20260928T190000
DTEND;TZID=UTC:20260928T210000
DTSTAMP:20260423T085352
CREATED:20260131T162127Z
LAST-MODIFIED:20260131T162127Z
UID:5033-1790622000-1790629200@torbayars.org
SUMMARY:RSGB FT4 CONTEST
DESCRIPTION:All members welcome to enter \ninput   TORBAY  ARS
URL:https://torbayars.org/event/rsgb-ft4-contest-8
LOCATION:Devon
END:VEVENT
END:VCALENDAR