BEGIN:VCALENDAR
VERSION:2.0
PRODID:-//Torbay Amateur Radio Society - ECPv6.15.20//NONSGML v1.0//EN
CALSCALE:GREGORIAN
METHOD:PUBLISH
X-ORIGINAL-URL:https://torbayars.org
X-WR-CALDESC:Events for Torbay Amateur Radio Society
REFRESH-INTERVAL;VALUE=DURATION:PT1H
X-Robots-Tag:noindex
X-PUBLISHED-TTL:PT1H
BEGIN:VTIMEZONE
TZID:UTC
BEGIN:STANDARD
TZOFFSETFROM:+0000
TZOFFSETTO:+0000
TZNAME:UTC
DTSTART:20250101T000000
END:STANDARD
END:VTIMEZONE
BEGIN:VEVENT
DTSTART;TZID=UTC:20260727T190000
DTEND;TZID=UTC:20260727T210000
DTSTAMP:20260419T173940
CREATED:20260131T161338Z
LAST-MODIFIED:20260131T161338Z
UID:5021-1785178800-1785186000@torbayars.org
SUMMARY:RSGB FT4 CONTEST
DESCRIPTION:All members welcome to enter \ninput   TORBAY  ARS
URL:https://torbayars.org/event/rsgb-ft4-contest-6
LOCATION:Devon
END:VEVENT
END:VCALENDAR