BEGIN:VCALENDAR
VERSION:2.0
PRODID:-//Torbay Amateur Radio Society - ECPv6.15.20//NONSGML v1.0//EN
CALSCALE:GREGORIAN
METHOD:PUBLISH
X-WR-CALNAME:Torbay Amateur Radio Society
X-ORIGINAL-URL:https://torbayars.org
X-WR-CALDESC:Events for Torbay Amateur Radio Society
REFRESH-INTERVAL;VALUE=DURATION:PT1H
X-Robots-Tag:noindex
X-PUBLISHED-TTL:PT1H
BEGIN:VTIMEZONE
TZID:UTC
BEGIN:STANDARD
TZOFFSETFROM:+0000
TZOFFSETTO:+0000
TZNAME:UTC
DTSTART:20250101T000000
END:STANDARD
END:VTIMEZONE
BEGIN:VEVENT
DTSTART;TZID=UTC:20260725T120000
DTEND;TZID=UTC:20260726T120000
DTSTAMP:20260419T161422
CREATED:20260131T161242Z
LAST-MODIFIED:20260131T161242Z
UID:5019-1784980800-1785067200@torbayars.org
SUMMARY:RSGB IOTA CONTEST
DESCRIPTION:All members welcome to enter \ninput   TORBAY  ARS
URL:https://torbayars.org/event/rsgb-iota-contest
LOCATION:Devon
END:VEVENT
END:VCALENDAR